BEGIN:VCALENDAR
VERSION:2.0
PRODID:-//pretix//pretix.eu//
BEGIN:VTIMEZONE
TZID:Europe/Berlin
BEGIN:STANDARD
DTSTART:20001029T040000
RRULE:FREQ=YEARLY;BYDAY=-1SU;BYMONTH=10
TZNAME:CET
TZOFFSETFROM:+0200
TZOFFSETTO:+0100
END:STANDARD
BEGIN:DAYLIGHT
DTSTART:20000326T030000
RRULE:FREQ=YEARLY;BYDAY=-1SU;BYMONTH=3
TZNAME:CEST
TZOFFSETFROM:+0100
TZOFFSETTO:+0200
END:DAYLIGHT
END:VTIMEZONE
BEGIN:VEVENT
UID:pretix-badnauheim-IPKF-0@www.bad-nauheim-tickets.de
DTSTART;TZID=Europe/Berlin:20260626T090000
DTEND;TZID=Europe/Berlin:20260626T120000
DESCRIPTION:Tickets: https://www.bad-nauheim-tickets.de/IPKF/\nVeranstalter
 : Stadt Bad Nauheim
DTSTAMP:20260420T194840Z
LOCATION:Smart Region Hub Bad Nauheim\, In den Kolonnaden 7\, 61231 Bad Nau
 heim
SUMMARY:Cash & Coffee - Fördermittel für Digitalisierungs- und Smart-City
 -Projekte
END:VEVENT
END:VCALENDAR
